View In:
  ArcGIS JavaScript
  EEA Discomap Portal
  ArcGIS Earth
Service Description:  https://sdi.eea.europa.eu/catalogue/srv/api/records/96b7f7df-3f79-4001-b489-1d918c813a62
Name:  EUNIS/Mosaic_Sparsely
Description:  https://sdi.eea.europa.eu/catalogue/srv/api/records/96b7f7df-3f79-4001-b489-1d918c813a62
Single Fused Map Cache:  false
Extent: 
XMin: 2580000.0
YMin: 1360000.0
XMax: 7350000.0
YMax: 5445000.0
Spatial Reference: 3035
 (3035)
 LatestVCSWkid(0)
Initial Extent:
XMin: 2580000.0
YMin: 1360000.0
XMax: 7350000.0
YMax: 5445000.0
Spatial Reference: 3035
 (3035)
 LatestVCSWkid(0)
Full Extent:
XMin: 2580000.0
YMin: 1360000.0
XMax: 7350000.0
YMax: 5445000.0
Spatial Reference: 3035
 (3035)
 LatestVCSWkid(0)
Pixel Size X: 1000.0
Pixel Size Y:  1000.0
Band Count: 1
Pixel Type: F32
RasterFunction Infos:  {"rasterFunctionInfos": [{
 "name": "None",
 "description": "",
 "help": ""
}]}
Mensuration Capabilities: Basic
Inspection Capabilities: 
Has Histograms:  true
Has Colormap:  false
Has Multi Dimensions :  false
Rendering Rule: 
Min Scale:  0
Max Scale:  0
Copyright Text:  
Service Data Type:  esriImageServiceDataTypeGeneric
Min Values:  0.09177744398766663
Max Values:  0.9982226564461598
Mean Values:  0.32245999491268423
Standard Deviation Values:  0.21761221631243458
Object ID Field:  OBJECTID
Fields: 
- 
OBJECTID
(
type: esriFieldTypeOID, alias: OBJECTID
)
- 
Shape
(
type: esriFieldTypeGeometry, alias: Shape
)
- 
Name
(
type: esriFieldTypeString, alias: Name, length: 200
)
- 
MinPS
(
type: esriFieldTypeDouble, alias: MinPS
)
- 
MaxPS
(
type: esriFieldTypeDouble, alias: MaxPS
)
- 
LowPS
(
type: esriFieldTypeDouble, alias: LowPS
)
- 
HighPS
(
type: esriFieldTypeDouble, alias: HighPS
)
- 
Category
(
type: esriFieldTypeInteger, alias: Category
, Coded Values: 
[0: Unknown]
, [1: Primary]
, [2: Overview]
, ...6 more...
)
- 
Tag
(
type: esriFieldTypeString, alias: Tag, length: 100
)
- 
GroupName
(
type: esriFieldTypeString, alias: GroupName, length: 100
)
- 
ProductName
(
type: esriFieldTypeString, alias: ProductName, length: 100
)
- 
CenterX
(
type: esriFieldTypeDouble, alias: CenterX
)
- 
CenterY
(
type: esriFieldTypeDouble, alias: CenterY
)
- 
ZOrder
(
type: esriFieldTypeInteger, alias: ZOrder
)
- 
Suit
(
type: esriFieldTypeString, alias: Suit, length: 255
)
- 
Shape_Length
(
type: esriFieldTypeDouble, alias: Shape_Length
)
- 
Shape_Area
(
type: esriFieldTypeDouble, alias: Shape_Area
)
Default Mosaic Method: Northwest
Allowed Mosaic Methods:  NorthWest,Center,LockRaster,ByAttribute,Nadir,Viewpoint,Seamline,None
SortField:  
SortValue:  null
Mosaic Operator:  First
Default Compression Quality:  75
Default Resampling Method:  Bilinear
Max Record Count:  1000
Max Image Height:  4100
Max Image Width:  15000
Max Download Image Count:  20
Max Mosaic Image Count:  20
Allow Raster Function:  true
Allow Copy:  true
Allow Analysis:  true
Allow Compute TiePoints:  false
Supports Statistics:  true
Supports Advanced Queries:  true
Use StandardizedQueries:  true
Raster Type Infos: 
Name: Raster Dataset
Description: Supports all ArcGIS Raster Datasets
Help: 
Has Raster Attribute Table: false
Edit Fields Info:  null
Ownership Based AccessControl For Rasters:  null
Child Resources:
  
Info
  Histograms
  Statistics
  Key Properties
  Legend
  Raster Function Infos
Supported Operations:
  
Export Image
  Query
  Identify
  Measure
  Compute Histograms
  Compute Statistics Histograms
  Get Samples
  Compute Class Statistics
  Query GPS Info
  Find Images
  Image to Map
  Map to Image
  Measure from Image
  Image to Map Multiray
  Query Boundary
  Compute Pixel Location
  Compute Angles
  Validate
  Project