View In:
ArcGIS JavaScript
🌍 EEA Discomap Portal
ArcGIS Earth
Service Description: This Image Service was specifically created for Ecosystem Story Map, so its attributes are tailored to the map’s needs.
Name: Ecosystem/Ecosystem_Image_Service
Description: This Image Service was specifically created for Ecosystem Story Map, so its attributes are tailored to the map’s needs.
Single Fused Map Cache: false
Extent:
XMin: 587500
YMin: 756300.0000000009
XMax: 7400000
YMax: 6822800.000000001
Spatial Reference: 3035
(3035)
Initial Extent:
XMin: 587500
YMin: 756300.0000000009
XMax: 7400000
YMax: 6822800.000000001
Spatial Reference: 3035
(3035)
Full Extent:
XMin: 587500
YMin: 756300.0000000009
XMax: 7400000
YMax: 6822800.000000001
Spatial Reference: 3035
(3035)
Pixel Size X: 100.0
Pixel Size Y: 100.0
Band Count: 1
Pixel Type: U8
RasterFunction Infos: {"rasterFunctionInfos": [{
"name": "None",
"description": "",
"help": ""
}]}
Mensuration Capabilities: Basic
Has Histograms: true
Has Colormap: true
Has Multi Dimensions : false
Rendering Rule:
Min Scale: 0
Max Scale: 0
Copyright Text: © EEA, Copenhagen 2017
Service Data Type: esriImageServiceDataTypeThematic
Min Values: 11
Max Values: 250
Mean Values: 84.385504662695
Standard Deviation Values: 32.389658836361
Object ID Field:
Fields:
None
Default Mosaic Method: Center
Allowed Mosaic Methods:
SortField:
SortValue: null
Mosaic Operator: First
Default Compression Quality: 75
Default Resampling Method: Nearest
Max Record Count: null
Max Image Height: 4100
Max Image Width: 15000
Max Download Image Count: null
Max Mosaic Image Count: null
Allow Raster Function: true
Allow Copy: true
Allow Analysis: true
Allow Compute TiePoints: false
Supports Statistics: false
Supports Advanced Queries: false
Use StandardizedQueries: true
Raster Type Infos:
Name: Raster Dataset
Description: Supports all ArcGIS Raster Datasets
Help:
Has Raster Attribute Table: true
Edit Fields Info: null
Ownership Based AccessControl For Rasters: null
Child Resources:
Info
Raster Attribute Table
Histograms
Statistics
Key Properties
Color Map
Legend
Raster Function Infos
Supported Operations:
Export Image
Identify
Measure
Compute Histograms
Compute Statistics Histograms
Get Samples
Compute Class Statistics
Query Boundary
Compute Pixel Location
Compute Angles
Validate
Project